BEGIN:VCALENDAR
VERSION:2.0
PRODID:-//Agrupamento de Escolas de Cascais - ECPv6.15.20//NONSGML v1.0//EN
CALSCALE:GREGORIAN
METHOD:PUBLISH
X-ORIGINAL-URL:https://aecascais.pt
X-WR-CALDESC:Eventos para Agrupamento de Escolas de Cascais
REFRESH-INTERVAL;VALUE=DURATION:PT1H
X-Robots-Tag:noindex
X-PUBLISHED-TTL:PT1H
BEGIN:VTIMEZONE
TZID:UTC
BEGIN:STANDARD
TZOFFSETFROM:+0000
TZOFFSETTO:+0000
TZNAME:UTC
DTSTART:20180101T000000
END:STANDARD
END:VTIMEZONE
BEGIN:VTIMEZONE
TZID:Europe/Lisbon
BEGIN:DAYLIGHT
TZOFFSETFROM:+0000
TZOFFSETTO:+0100
TZNAME:WEST
DTSTART:20180325T010000
END:DAYLIGHT
BEGIN:STANDARD
TZOFFSETFROM:+0100
TZOFFSETTO:+0000
TZNAME:WET
DTSTART:20181028T010000
END:STANDARD
BEGIN:DAYLIGHT
TZOFFSETFROM:+0000
TZOFFSETTO:+0100
TZNAME:WEST
DTSTART:20190331T010000
END:DAYLIGHT
BEGIN:STANDARD
TZOFFSETFROM:+0100
TZOFFSETTO:+0000
TZNAME:WET
DTSTART:20191027T010000
END:STANDARD
BEGIN:DAYLIGHT
TZOFFSETFROM:+0000
TZOFFSETTO:+0100
TZNAME:WEST
DTSTART:20200329T010000
END:DAYLIGHT
BEGIN:STANDARD
TZOFFSETFROM:+0100
TZOFFSETTO:+0000
TZNAME:WET
DTSTART:20201025T010000
END:STANDARD
END:VTIMEZONE
BEGIN:VEVENT
DTSTART;TZID=UTC:20200116T090000
DTEND;TZID=UTC:20200116T170000
DTSTAMP:20260424T052807
CREATED:20200116T085850Z
LAST-MODIFIED:20200116T090518Z
UID:1851-1579165200-1579194000@aecascais.pt
SUMMARY:Associação de Estudantes - Eleição na Escola Básica
DESCRIPTION:PROCESSO ELEITORAL ASSOCIAÇÃO DE ESTUDANTES 2019-20 \n  \nInformam-se todos os alunos que\, a partir desta do dia 6 de janeiro de 2020\, se encontra aberto o processo eleitoral para a Associação de Estudantes para o ano letivo 2019/20. \n  \nMais informa que os prazos a observar no referido processo são os seguintes: \n  \n\nApresentação das listas –  até às 16h do dia 13 de janeiro de 2020\n\n  \n\nCampanha eleitoral – dias 14\, 15 e 16 de janeiro na Escola Secundária e dias 14 e 15 na Escola Básica.\n\n  \n\nEleições – Escola Básica – dia 16 de janeiro de 2020\n\n– Escola Secundária – dia 17 de janeiro de 2020
URL:https://aecascais.pt/eventos/associacao-de-estudantes-eleicao-na-escola-basica/
LOCATION:Escola Básica\, Bairro do Rosário\, Cascais\, Portugal
END:VEVENT
BEGIN:VEVENT
DTSTART;TZID=UTC:20200116T083000
DTEND;TZID=UTC:20200116T120000
DTSTAMP:20260424T052807
CREATED:20200116T090814Z
LAST-MODIFIED:20200116T090814Z
UID:1859-1579163400-1579176000@aecascais.pt
SUMMARY:OP JOVEM
DESCRIPTION:
URL:https://aecascais.pt/eventos/op-jovem/
LOCATION:Escola Básica\, Bairro do Rosário\, Cascais\, Portugal
END:VEVENT
BEGIN:VEVENT
DTSTART;VALUE=DATE:20200113
DTEND;VALUE=DATE:20200114
DTSTAMP:20260424T052807
CREATED:20200110T141412Z
LAST-MODIFIED:20200110T141421Z
UID:1831-1578873600-1578959999@aecascais.pt
SUMMARY:Inspire Future
DESCRIPTION:
URL:https://aecascais.pt/eventos/inspire-future/
LOCATION:Escola Secundária de Cascais\, Portugal
END:VEVENT
BEGIN:VEVENT
DTSTART;TZID=UTC:20191219T000000
DTEND;TZID=UTC:20191219T143000
DTSTAMP:20260424T052807
CREATED:20191108T125336Z
LAST-MODIFIED:20191108T125336Z
UID:1330-1576713600-1576765800@aecascais.pt
SUMMARY:Almoço de Natal
DESCRIPTION:
URL:https://aecascais.pt/eventos/almoco-de-natal/
LOCATION:Escola Secundária de Cascais\, Portugal
END:VEVENT
BEGIN:VEVENT
DTSTART;TZID=UTC:20191218T083000
DTEND;TZID=UTC:20191219T190000
DTSTAMP:20260424T052807
CREATED:20191108T125714Z
LAST-MODIFIED:20191108T125714Z
UID:1334-1576657800-1576782000@aecascais.pt
SUMMARY:Reuniões de Avaliação do 1.º Período
DESCRIPTION:
URL:https://aecascais.pt/eventos/reunioes-de-avaliacao-do-1-o-periodo/
END:VEVENT
BEGIN:VEVENT
DTSTART;VALUE=DATE:20191212
DTEND;VALUE=DATE:20191213
DTSTAMP:20260424T052807
CREATED:20191111T152637Z
LAST-MODIFIED:20191111T152637Z
UID:1391-1576108800-1576195199@aecascais.pt
SUMMARY:CORTA MATO CONCELHIO
DESCRIPTION:
URL:https://aecascais.pt/eventos/corta-mato-concelhio/
LOCATION:Cascais
END:VEVENT
BEGIN:VEVENT
DTSTART;TZID=UTC:20191211T143000
DTEND;TZID=UTC:20191211T190000
DTSTAMP:20260424T052807
CREATED:20191125T111039Z
LAST-MODIFIED:20191202T120413Z
UID:1507-1576074600-1576090800@aecascais.pt
SUMMARY:4.ª Reunião do Conselho Pedagógico
DESCRIPTION:
URL:https://aecascais.pt/eventos/reuniao-do-conselho-pedagogico/
LOCATION:Escola Secundária de Cascais\, Portugal
END:VEVENT
BEGIN:VEVENT
DTSTART;TZID=UTC:20191204T143000
DTEND;TZID=UTC:20191204T163000
DTSTAMP:20260424T052807
CREATED:20191204T231006Z
LAST-MODIFIED:20191204T231006Z
UID:1556-1575469800-1575477000@aecascais.pt
SUMMARY:Reunião de Diretores de Turma
DESCRIPTION:
URL:https://aecascais.pt/eventos/reuniao-de-diretores-de-turma/
LOCATION:Agrupamento de Escolas de Cascais\, Portugal
END:VEVENT
BEGIN:VEVENT
DTSTART;VALUE=DATE:20191203
DTEND;VALUE=DATE:20191204
DTSTAMP:20260424T052807
CREATED:20191204T230830Z
LAST-MODIFIED:20191204T230830Z
UID:1553-1575331200-1575417599@aecascais.pt
SUMMARY:Na Presidência da República
DESCRIPTION:
URL:https://aecascais.pt/eventos/na-presidencia-da-republica/
LOCATION:Belém
END:VEVENT
BEGIN:VEVENT
DTSTART;TZID=Europe/Lisbon:20191130T163000
DTEND;TZID=Europe/Lisbon:20191130T203000
DTSTAMP:20260424T052807
CREATED:20191108T111246Z
LAST-MODIFIED:20191108T111946Z
UID:1322-1575131400-1575145800@aecascais.pt
SUMMARY:Bolsas de Mérito - Junta de Freguesia
DESCRIPTION:Cerimónia de atribuição de prémios e bolsas de mérito\, no próximo dia 30 de Novembro de 2019\, no edifício da Junta de Freguesia no Largo Cidade Vitória\, n.º 1\, 2750-319 Cascais\, pelas 16:30 horas. \nEsta cerimónia representa o reconhecimento do percurso escolar dos alunos premiados e um incentivo para a progressão dos estudos e tem como objetivo\, incentivar o mérito académico\, com a atribuição de bolsas e prémios de mérito.
URL:https://aecascais.pt/eventos/bolsas-de-merito-junta-de-freguesia/
LOCATION:Junta de Freguesia\, Largo Cidade Vitória\, n.º 1\, Cascais\, Cascais\, Largo Cidade2750-319\, Portugal
END:VEVENT
BEGIN:VEVENT
DTSTART;TZID=UTC:20191125T080000
DTEND;TZID=UTC:20191125T170000
DTSTAMP:20260424T052807
CREATED:20191125T111423Z
LAST-MODIFIED:20191125T111423Z
UID:1512-1574668800-1574701200@aecascais.pt
SUMMARY:Reunião de Coordenação dos Diretores de Turma
DESCRIPTION:
URL:https://aecascais.pt/eventos/reuniao-de-coordenacao-dos-diretores-de-turma/
LOCATION:Agrupamento de Escolas de Cascais\, Portugal
END:VEVENT
BEGIN:VEVENT
DTSTART;TZID=UTC:20191124T173000
DTEND;TZID=UTC:20191124T233000
DTSTAMP:20260424T052807
CREATED:20191108T130409Z
LAST-MODIFIED:20191124T123130Z
UID:1340-1574616600-1574638200@aecascais.pt
SUMMARY:Gala da Educação
DESCRIPTION:
URL:https://aecascais.pt/eventos/gala-da-educacao/
LOCATION:Casino Estoril – Salão Preto e Prata\, Portugal
END:VEVENT
BEGIN:VEVENT
DTSTART;TZID=UTC:20191123T143000
DTEND;TZID=UTC:20191130T190000
DTSTAMP:20260424T052807
CREATED:20191108T130123Z
LAST-MODIFIED:20191108T130123Z
UID:1336-1574519400-1575140400@aecascais.pt
SUMMARY:Semana da Educação - Câmara Municipal de Cascais
DESCRIPTION:
URL:https://aecascais.pt/eventos/semana-da-educacao-camara-municipal-de-cascais/
LOCATION:Cascais
END:VEVENT
BEGIN:VEVENT
DTSTART;TZID=UTC:20191121T100000
DTEND;TZID=UTC:20191121T133000
DTSTAMP:20260424T052807
CREATED:20191111T160430Z
LAST-MODIFIED:20191111T160600Z
UID:1401-1574330400-1574343000@aecascais.pt
SUMMARY:Workshop - Os 30 anos da Queda do Muro de Berlim
DESCRIPTION:
URL:https://aecascais.pt/eventos/workshop-os-30-anos-da-queda-do-muro-de-berlim/
LOCATION:Escola Secundária de Cascais\, Portugal
END:VEVENT
BEGIN:VEVENT
DTSTART;TZID=UTC:20191120T090000
DTEND;TZID=UTC:20191120T133000
DTSTAMP:20260424T052807
CREATED:20191124T125136Z
LAST-MODIFIED:20191124T125136Z
UID:1486-1574240400-1574256600@aecascais.pt
SUMMARY:Ginasticar
DESCRIPTION:
URL:https://aecascais.pt/eventos/ginasticar/
END:VEVENT
BEGIN:VEVENT
DTSTART;VALUE=DATE:20191120
DTEND;VALUE=DATE:20191123
DTSTAMP:20260424T052807
CREATED:20191124T124723Z
LAST-MODIFIED:20191124T124833Z
UID:1482-1574208000-1574467199@aecascais.pt
SUMMARY:Seminário Internacional “Apostar na Inovação | Construir Futuros”
DESCRIPTION:
URL:https://aecascais.pt/eventos/seminario-internacional-apostar-na-inovacao-construir-futuros/
LOCATION:Nova SBE\, Portugal
END:VEVENT
BEGIN:VEVENT
DTSTART;TZID=UTC:20191113T100000
DTEND;TZID=UTC:20191113T180000
DTSTAMP:20260424T052807
CREATED:20191111T152835Z
LAST-MODIFIED:20191114T182002Z
UID:1393-1573639200-1573668000@aecascais.pt
SUMMARY:A VOZ DOS JOVENS
DESCRIPTION:
URL:https://aecascais.pt/eventos/a-voz-dos-jovens/
LOCATION:Escola Secundária Fernando Lopes Graça
END:VEVENT
BEGIN:VEVENT
DTSTART;TZID=UTC:20191113T083000
DTEND;TZID=UTC:20191113T133000
DTSTAMP:20260424T052807
CREATED:20191111T152546Z
LAST-MODIFIED:20191111T152546Z
UID:1387-1573633800-1573651800@aecascais.pt
SUMMARY:CORTA MATO ESCOLAR
DESCRIPTION:
URL:https://aecascais.pt/eventos/corta-mato-escolar/
LOCATION:Agrupamento de Escolas de Cascais\, Portugal
END:VEVENT
BEGIN:VEVENT
DTSTART;TZID=UTC:20191108T143000
DTEND;TZID=UTC:20191108T160000
DTSTAMP:20260424T052807
CREATED:20191114T181147Z
LAST-MODIFIED:20191114T181730Z
UID:1424-1573223400-1573228800@aecascais.pt
SUMMARY:ENCONTRO DAS ARTES
DESCRIPTION:
URL:https://aecascais.pt/eventos/encontro-das-artes/
LOCATION:Escola Secundária de Cascais\, Portugal
END:VEVENT
BEGIN:VEVENT
DTSTART;TZID=UTC:20191108T080000
DTEND;TZID=UTC:20191108T170000
DTSTAMP:20260424T052807
CREATED:20191108T173405Z
LAST-MODIFIED:20191108T173405Z
UID:1372-1573200000-1573232400@aecascais.pt
SUMMARY:Visita de Estudo a Peniche
DESCRIPTION:
URL:https://aecascais.pt/eventos/visita-de-estudo-a-peniche/
LOCATION:Peniche
END:VEVENT
BEGIN:VEVENT
DTSTART;TZID=UTC:20191108T080000
DTEND;TZID=UTC:20191108T170000
DTSTAMP:20260424T052807
CREATED:20191108T170838Z
LAST-MODIFIED:20191108T172626Z
UID:1369-1573200000-1573232400@aecascais.pt
SUMMARY:BD Amadora
DESCRIPTION:
URL:https://aecascais.pt/eventos/bd-amadora/
END:VEVENT
BEGIN:VEVENT
DTSTART;TZID=UTC:20191107T093000
DTEND;TZID=UTC:20191107T200000
DTSTAMP:20260424T052807
CREATED:20191108T130913Z
LAST-MODIFIED:20191108T130913Z
UID:1343-1573119000-1573156800@aecascais.pt
SUMMARY:STUDY IN THE UK TOUR
DESCRIPTION:
URL:https://aecascais.pt/eventos/study-in-the-uk-tour/
LOCATION:Auditório da Senhora da Boa Nova
END:VEVENT
BEGIN:VEVENT
DTSTART;TZID=UTC:20191106T143000
DTEND;TZID=UTC:20191106T190000
DTSTAMP:20260424T052807
CREATED:20191108T124706Z
LAST-MODIFIED:20191125T111256Z
UID:1327-1573050600-1573066800@aecascais.pt
SUMMARY:3.ª reunião do Conselho Pedagógico
DESCRIPTION:
URL:https://aecascais.pt/eventos/conselho-pedagogico/
LOCATION:Escola Secundária de Cascais\, Portugal
END:VEVENT
BEGIN:VEVENT
DTSTART;VALUE=DATE:20191106
DTEND;VALUE=DATE:20191107
DTSTAMP:20260424T052807
CREATED:20191108T170709Z
LAST-MODIFIED:20191108T170709Z
UID:1366-1572998400-1573084799@aecascais.pt
SUMMARY:Museu de Arte Contemporânea
DESCRIPTION:
URL:https://aecascais.pt/eventos/museu-de-arte-contemporanea/
LOCATION:Lisboa\, Portugal
END:VEVENT
BEGIN:VEVENT
DTSTART;TZID=UTC:20191031T120000
DTEND;TZID=UTC:20191031T133000
DTSTAMP:20260424T052807
CREATED:20191111T153527Z
LAST-MODIFIED:20191204T231202Z
UID:1397-1572523200-1572528600@aecascais.pt
SUMMARY:"Vamos ouvir\, vamos conversar" - Eng.º Bernardo Pinto Gonçalves
DESCRIPTION:
URL:https://aecascais.pt/eventos/vamos-ouvir-vamos-conversar-eng-o-bernardo-pinto-goncalves/
END:VEVENT
BEGIN:VEVENT
DTSTART;TZID=UTC:20191031T120000
DTEND;TZID=UTC:20191031T133000
DTSTAMP:20260424T052807
CREATED:20191108T173954Z
LAST-MODIFIED:20191108T173954Z
UID:1378-1572523200-1572528600@aecascais.pt
SUMMARY:Centro Cultural de Cascais
DESCRIPTION:
URL:https://aecascais.pt/eventos/centro-cultural-de-cascais/
LOCATION:Centro Cultural de Cascais\, Portugal
END:VEVENT
BEGIN:VEVENT
DTSTART;VALUE=DATE:20191028
DTEND;VALUE=DATE:20191029
DTSTAMP:20260424T052807
CREATED:20191108T151930Z
LAST-MODIFIED:20191108T152032Z
UID:1355-1572220800-1572307199@aecascais.pt
SUMMARY:Dia Nacional da Biblioteca Escolar
DESCRIPTION:
URL:https://aecascais.pt/eventos/dia-nacional-da-biblioteca-escolar/
LOCATION:Cascais
END:VEVENT
BEGIN:VEVENT
DTSTART;TZID=UTC:20191016T180000
DTEND;TZID=UTC:20191016T193000
DTSTAMP:20260424T052807
CREATED:20191108T152327Z
LAST-MODIFIED:20191108T165840Z
UID:1359-1571248800-1571254200@aecascais.pt
SUMMARY:Quadros de Valor e Excelência - 1.º e 2.ºciclos
DESCRIPTION:
URL:https://aecascais.pt/eventos/quadros-de-valor-e-excelencia/
LOCATION:Casa das Histórias – Paula Rego\, Portugal
END:VEVENT
BEGIN:VEVENT
DTSTART;VALUE=DATE:20191003
DTEND;VALUE=DATE:20191004
DTSTAMP:20260424T052807
CREATED:20191108T173648Z
LAST-MODIFIED:20191108T173717Z
UID:1376-1570060800-1570147199@aecascais.pt
SUMMARY:Visita de estudo ao Tribunal Judicial da Comarca de Cascais
DESCRIPTION:
URL:https://aecascais.pt/eventos/visita-de-estudo-ao-tribunal-judicial-da-comarca-de-cascais/
LOCATION:Cascais
END:VEVENT
BEGIN:VEVENT
DTSTART;VALUE=DATE:20191003
DTEND;VALUE=DATE:20191004
DTSTAMP:20260424T052807
CREATED:20191108T170501Z
LAST-MODIFIED:20191108T170501Z
UID:1363-1570060800-1570147199@aecascais.pt
SUMMARY:Exposição Banksy+"Pop Arte"+Fernando Lemos
DESCRIPTION:
URL:https://aecascais.pt/eventos/exposicao-banksypop-artefernando-lemos/
LOCATION:Lisboa\, Portugal
END:VEVENT
END:VCALENDAR