BEGIN:VCALENDAR
VERSION:2.0
PRODID:-//Agrupamento de Escolas de Cascais - ECPv6.15.20//NONSGML v1.0//EN
CALSCALE:GREGORIAN
METHOD:PUBLISH
X-ORIGINAL-URL:https://aecascais.pt
X-WR-CALDESC:Eventos para Agrupamento de Escolas de Cascais
REFRESH-INTERVAL;VALUE=DURATION:PT1H
X-Robots-Tag:noindex
X-PUBLISHED-TTL:PT1H
BEGIN:VTIMEZONE
TZID:UTC
BEGIN:STANDARD
TZOFFSETFROM:+0000
TZOFFSETTO:+0000
TZNAME:UTC
DTSTART:20220101T000000
END:STANDARD
END:VTIMEZONE
BEGIN:VEVENT
DTSTART;VALUE=DATE:20240912
DTEND;VALUE=DATE:20240913
DTSTAMP:20260423T195824
CREATED:20240908T090356Z
LAST-MODIFIED:20240908T090455Z
UID:8578-1726099200-1726185599@aecascais.pt
SUMMARY:Início das atividades letivas para as Escolas do 1º Ciclo e Jardins de Infância\, em horário completo
DESCRIPTION:
URL:https://aecascais.pt/eventos/inicio-das-atividades-letivas-para-as-escolas-do-1o-ciclo-e-jardins-de-infancia-em-horario-completo/
LOCATION:AECAS – Jardins de Infancia e 1.º ciclos\, Portugal
CATEGORIES:Calendário
END:VEVENT
BEGIN:VEVENT
DTSTART;TZID=UTC:20240911T093000
DTEND;TZID=UTC:20240911T230000
DTSTAMP:20260423T195824
CREATED:20240908T090236Z
LAST-MODIFIED:20240908T090236Z
UID:8575-1726047000-1726095600@aecascais.pt
SUMMARY:Reunião com os encarregados de educação nos Jardins de Infância e Escolas do 1º Ciclo
DESCRIPTION:Jardins de Infância:\nJI da Torre – 9h30 \nJI da Areia – 9h30 \n  \nEscolas do 1º ciclo: Areia Guincho\, Aldeia de Juso e Branquinho da Fonseca:\n1º ano\, 2º ano\, 3º ano e 4º ano – 9h30 \n  \nAs Escolas e Jardins de Infância entregam declarações de presença.
URL:https://aecascais.pt/eventos/reuniao-com-os-encarregados-de-educacao-nos-jardins-de-infancia-e-escolas-do-1o-ciclo/
LOCATION:AECAS – Jardins de Infancia e 1.º ciclos\, Portugal
CATEGORIES:Reuniões
END:VEVENT
BEGIN:VEVENT
DTSTART;TZID=UTC:20240911T080000
DTEND;TZID=UTC:20240911T170000
DTSTAMP:20260423T195824
CREATED:20240801T183336Z
LAST-MODIFIED:20240827T190055Z
UID:8454-1726041600-1726074000@aecascais.pt
SUMMARY:1.º Semestre
DESCRIPTION:
URL:https://aecascais.pt/eventos/inicio-do-1-o-semestre-2/
LOCATION:Cascais
CATEGORIES:Calendário
ATTACH;FMTTYPE=image/jpeg:https://aecascais.pt/wp-content/uploads/2024/08/back-to-school-school-enrollment-school-2628013.jpg
END:VEVENT
BEGIN:VEVENT
DTSTART;TZID=UTC:20240906T100000
DTEND;TZID=UTC:20240906T170000
DTSTAMP:20260423T195824
CREATED:20240801T203707Z
LAST-MODIFIED:20240827T183809Z
UID:8482-1725616800-1725642000@aecascais.pt
SUMMARY:CMC - Boas Vindas à Comunidade Escolar
DESCRIPTION:
URL:https://aecascais.pt/eventos/inicio-do-ano-escolar-cmc/
LOCATION:Mosteiro Santa Maria do Mar\, Cascais\, Portugal
CATEGORIES:Atividades
ATTACH;FMTTYPE=image/jpeg:https://aecascais.pt/wp-content/uploads/2024/08/mosteiro_cropsite.jpg
END:VEVENT
BEGIN:VEVENT
DTSTART;TZID=UTC:20240904T093000
DTEND;TZID=UTC:20240904T130000
DTSTAMP:20260423T195824
CREATED:20240827T181614Z
LAST-MODIFIED:20240827T181614Z
UID:8541-1725442200-1725454800@aecascais.pt
SUMMARY:1.º Conselho Pedagógico
DESCRIPTION:
URL:https://aecascais.pt/eventos/1-o-conselho-pedagogico/
LOCATION:Escola Secundária de Cascais\, Portugal
CATEGORIES:Reuniões
END:VEVENT
BEGIN:VEVENT
DTSTART;TZID=UTC:20240904T093000
DTEND;TZID=UTC:20240904T120000
DTSTAMP:20260423T195824
CREATED:20240827T181445Z
LAST-MODIFIED:20240827T181445Z
UID:8538-1725442200-1725451200@aecascais.pt
SUMMARY:REUNIÃO PREPARATÓRIA DE ANO LETIVO 24/ 25 - SECRETARIAS\, ENCARREGADAS OPERACIONAIS E PARCEIROS
DESCRIPTION:
URL:https://aecascais.pt/eventos/reuniao-preparatoria-de-ano-letivo-24-25-secretarias-encarregadas-operacionais-e-parceiros/
LOCATION:AE S. Joao do Estoril\, Portugal
CATEGORIES:Reuniões
END:VEVENT
BEGIN:VEVENT
DTSTART;VALUE=DATE:20240902
DTEND;VALUE=DATE:20240903
DTSTAMP:20260423T195824
CREATED:20240820T215600Z
LAST-MODIFIED:20240820T215742Z
UID:8525-1725235200-1725321599@aecascais.pt
SUMMARY:INÍCIO DO ANO ESCOLAR 2024-2025
DESCRIPTION:Apresentação dos docentes \nDistribuição de serviço – será facultada aos coordenadores de departamento e de grupo disciplinar
URL:https://aecascais.pt/eventos/inicio-do-ano-escolar-2024-2025/
LOCATION:Agrupamento de Escolas de Cascais\, Portugal
CATEGORIES:Calendário
END:VEVENT
BEGIN:VEVENT
DTSTART;VALUE=DATE:20240825
DTEND;VALUE=DATE:20240826
DTSTAMP:20260423T195824
CREATED:20240820T214904Z
LAST-MODIFIED:20240820T214904Z
UID:8523-1724544000-1724630399@aecascais.pt
SUMMARY:Divulgação dos resultados da 1ª fase do concurso nacional
DESCRIPTION:
URL:https://aecascais.pt/eventos/divulgacao-dos-resultados-da-1a-fase-do-concurso-nacional/
LOCATION:Cascais
CATEGORIES:Calendário
END:VEVENT
BEGIN:VEVENT
DTSTART;VALUE=DATE:20240806
DTEND;VALUE=DATE:20240807
DTSTAMP:20260423T195824
CREATED:20240805T175358Z
LAST-MODIFIED:20240805T175358Z
UID:8513-1722902400-1722988799@aecascais.pt
SUMMARY:Pedido de cópia da prova
DESCRIPTION:
URL:https://aecascais.pt/eventos/pedido-de-copia-da-prova/
LOCATION:Escola Secundária de Cascais\, Portugal
CATEGORIES:Exames Nacionais
END:VEVENT
BEGIN:VEVENT
DTSTART;VALUE=DATE:20240805
DTEND;VALUE=DATE:20240806
DTSTAMP:20260423T195824
CREATED:20240805T175259Z
LAST-MODIFIED:20240805T175259Z
UID:8511-1722816000-1722902399@aecascais.pt
SUMMARY:2.ª FASE: afixação de pautas e pedido de cópia da prova
DESCRIPTION:
URL:https://aecascais.pt/eventos/2-a-fase-afixacao-de-pautas-e-pedido-de-copia-da-prova/
LOCATION:Escola Secundária de Cascais\, Portugal
CATEGORIES:Exames Nacionais
ATTACH;FMTTYPE=image/jpeg:https://aecascais.pt/wp-content/uploads/2024/08/reapreciacoes-copiar.jpg
END:VEVENT
BEGIN:VEVENT
DTSTART;TZID=UTC:20240801T170000
DTEND;TZID=UTC:20240801T170000
DTSTAMP:20260423T195824
CREATED:20240801T184132Z
LAST-MODIFIED:20240801T184132Z
UID:8460-1722531600-1722531600@aecascais.pt
SUMMARY:Publicação das listas de colocação 2.º\, 3.º e secundário
DESCRIPTION:
URL:https://aecascais.pt/eventos/publicacao-das-listas-de-colocacao-2-o-3-o-e-secundario/
LOCATION:Escola Secundária de Cascais\, Portugal
CATEGORIES:Alunos
ATTACH;FMTTYPE=image/jpeg:https://aecascais.pt/wp-content/uploads/2024/08/class-school-student-7595627.jpg
END:VEVENT
BEGIN:VEVENT
DTSTART;VALUE=DATE:20240205
DTEND;VALUE=DATE:20240206
DTSTAMP:20260423T195824
CREATED:20230917T113427Z
LAST-MODIFIED:20230917T113427Z
UID:6317-1707091200-1707177599@aecascais.pt
SUMMARY:Início do 2.º semestre
DESCRIPTION:
URL:https://aecascais.pt/eventos/inicio-do-2-o-semestre-2/
LOCATION:Cascais
CATEGORIES:Calendário
END:VEVENT
BEGIN:VEVENT
DTSTART;VALUE=DATE:20240129
DTEND;VALUE=DATE:20240201
DTSTAMP:20260423T195824
CREATED:20231128T182842Z
LAST-MODIFIED:20231128T182842Z
UID:6620-1706486400-1706745599@aecascais.pt
SUMMARY:Reuniões de avaliação do 1.º semestre
DESCRIPTION:
URL:https://aecascais.pt/eventos/reunioes-de-avaliacao-do-1-o-semestre/
LOCATION:Escola Secundária de Cascais\, Portugal
CATEGORIES:Reuniões
END:VEVENT
BEGIN:VEVENT
DTSTART;TZID=UTC:20240126T080000
DTEND;TZID=UTC:20240126T170000
DTSTAMP:20260423T195824
CREATED:20230917T113334Z
LAST-MODIFIED:20230917T113334Z
UID:6315-1706256000-1706288400@aecascais.pt
SUMMARY:Fim do 1.º semestre
DESCRIPTION:
URL:https://aecascais.pt/eventos/fim-do-1-o-semestre-2/
LOCATION:Cascais
CATEGORIES:Calendário
END:VEVENT
BEGIN:VEVENT
DTSTART;VALUE=DATE:20231123
DTEND;VALUE=DATE:20231124
DTSTAMP:20260423T195824
CREATED:20231128T183025Z
LAST-MODIFIED:20231128T183025Z
UID:6622-1700697600-1700783999@aecascais.pt
SUMMARY:Publicação das avaliações intercalares
DESCRIPTION:
URL:https://aecascais.pt/eventos/publicacao-das-avaliacoes-intercalares/
LOCATION:Agrupamento de Escolas de Cascais\, Portugal
CATEGORIES:Avaliação
END:VEVENT
BEGIN:VEVENT
DTSTART;TZID=UTC:20231122T143000
DTEND;TZID=UTC:20231122T170000
DTSTAMP:20260423T195824
CREATED:20231128T183145Z
LAST-MODIFIED:20231128T183145Z
UID:6624-1700663400-1700672400@aecascais.pt
SUMMARY:4.ª reunião do Conselho Pedagógico
DESCRIPTION:
URL:https://aecascais.pt/eventos/4-a-reuniao-do-conselho-pedagogico/
LOCATION:Escola Secundária de Cascais\, Portugal
CATEGORIES:Reuniões
END:VEVENT
BEGIN:VEVENT
DTSTART;TZID=UTC:20231116T080000
DTEND;TZID=UTC:20231116T170000
DTSTAMP:20260423T195824
CREATED:20230917T113655Z
LAST-MODIFIED:20231017T194721Z
UID:6319-1700121600-1700154000@aecascais.pt
SUMMARY:Reuniões intercaleres
DESCRIPTION:
URL:https://aecascais.pt/eventos/reunioes-intercaleres/
LOCATION:Cascais
CATEGORIES:Reuniões
END:VEVENT
BEGIN:VEVENT
DTSTART;VALUE=DATE:20231116
DTEND;VALUE=DATE:20231118
DTSTAMP:20260423T195824
CREATED:20231017T194500Z
LAST-MODIFIED:20231017T194546Z
UID:6532-1700092800-1700265599@aecascais.pt
SUMMARY:Reuniões Intercalares
DESCRIPTION:
URL:https://aecascais.pt/eventos/reunioes-intercalares/
LOCATION:Escola Secundária de Cascais\, Portugal
CATEGORIES:Reuniões
END:VEVENT
BEGIN:VEVENT
DTSTART;TZID=UTC:20231025T143000
DTEND;TZID=UTC:20231025T170000
DTSTAMP:20260423T195824
CREATED:20231017T193735Z
LAST-MODIFIED:20231017T193735Z
UID:6525-1698244200-1698253200@aecascais.pt
SUMMARY:3.ª reunião do Conselho Pedagógico
DESCRIPTION:
URL:https://aecascais.pt/eventos/3-a-reuniao-do-conselho-pedagogico/
LOCATION:Escola Secundária de Cascais\, Portugal
CATEGORIES:Reuniões
END:VEVENT
BEGIN:VEVENT
DTSTART;TZID=UTC:20231019T120000
DTEND;TZID=UTC:20231019T133000
DTSTAMP:20260423T195824
CREATED:20231017T194325Z
LAST-MODIFIED:20231017T194325Z
UID:6530-1697716800-1697722200@aecascais.pt
SUMMARY:Assembleia de Delegados e Subdelegados
DESCRIPTION:
URL:https://aecascais.pt/eventos/assembleia-de-delegados-e-subdelegados/
LOCATION:Cascais
CATEGORIES:Reuniões
END:VEVENT
BEGIN:VEVENT
DTSTART;TZID=UTC:20231011T143000
DTEND;TZID=UTC:20231011T170000
DTSTAMP:20260423T195824
CREATED:20231017T194133Z
LAST-MODIFIED:20231017T194630Z
UID:6528-1697034600-1697043600@aecascais.pt
SUMMARY:2.ª reunião do Conselho Pedagógico
DESCRIPTION:
URL:https://aecascais.pt/eventos/2-a-reuniao-do-conselho-pedagogico/
LOCATION:Escola Secundária de Cascais\, Portugal
CATEGORIES:Reuniões
END:VEVENT
BEGIN:VEVENT
DTSTART;VALUE=DATE:20231005
DTEND;VALUE=DATE:20231006
DTSTAMP:20260423T195824
CREATED:20230917T113251Z
LAST-MODIFIED:20230917T113251Z
UID:6313-1696464000-1696550399@aecascais.pt
SUMMARY:Interrupção letiva
DESCRIPTION:
URL:https://aecascais.pt/eventos/interrupcao-letiva/
LOCATION:Cascais
CATEGORIES:Atividades
END:VEVENT
BEGIN:VEVENT
DTSTART;TZID=UTC:20230926T183000
DTEND;TZID=UTC:20230926T193000
DTSTAMP:20260423T195824
CREATED:20230917T112015Z
LAST-MODIFIED:20230917T112015Z
UID:6311-1695753000-1695756600@aecascais.pt
SUMMARY:Reuniões com Encarregados de Educação
DESCRIPTION:
URL:https://aecascais.pt/eventos/reunioes-com-encarregados-de-educacao-2/
LOCATION:Cascais
CATEGORIES:Reuniões
END:VEVENT
BEGIN:VEVENT
DTSTART;TZID=UTC:20230926T180000
DTEND;TZID=UTC:20230926T183000
DTSTAMP:20260423T195824
CREATED:20230929T161411Z
LAST-MODIFIED:20230929T161411Z
UID:6358-1695751200-1695753000@aecascais.pt
SUMMARY:Reunião da Diretora com os Encarregados de Educação do 10.º ano
DESCRIPTION:
URL:https://aecascais.pt/eventos/reuniao-da-diretora-com-os-encarregados-de-educacao-do-10-o-ano/
LOCATION:Escola Secundária de Cascais\, Portugal
CATEGORIES:Reuniões
END:VEVENT
BEGIN:VEVENT
DTSTART;TZID=UTC:20230925T183000
DTEND;TZID=UTC:20230925T193000
DTSTAMP:20260423T195824
CREATED:20230917T111941Z
LAST-MODIFIED:20230917T111941Z
UID:6309-1695666600-1695670200@aecascais.pt
SUMMARY:Reuniões com Encarregados de Educação
DESCRIPTION:Reuniões com encarregados de educação (do 5.º ao 9.º anos) \n⇒ eleição dos representantes dos encarregados de educação \nReuniões com encarregados de educação (do 10.º ao 12.º anos) \n⇒ eleição dos representantes dos encarregados de educação
URL:https://aecascais.pt/eventos/reunioes-com-encarregados-de-educacao/
LOCATION:Cascais
CATEGORIES:Reuniões
END:VEVENT
BEGIN:VEVENT
DTSTART;TZID=UTC:20230914T160000
DTEND;TZID=UTC:20230914T170000
DTSTAMP:20260423T195824
CREATED:20230917T111226Z
LAST-MODIFIED:20230917T111226Z
UID:6296-1694707200-1694710800@aecascais.pt
SUMMARY:Reunião Geral de Professores
DESCRIPTION:
URL:https://aecascais.pt/eventos/reuniao-geral-de-professores/
LOCATION:Cascais
CATEGORIES:Reuniões
END:VEVENT
BEGIN:VEVENT
DTSTART;VALUE=DATE:20230913
DTEND;VALUE=DATE:20230914
DTSTAMP:20260423T195824
CREATED:20230917T111030Z
LAST-MODIFIED:20230917T111049Z
UID:6294-1694563200-1694649599@aecascais.pt
SUMMARY:Início das atividades letivas
DESCRIPTION:
URL:https://aecascais.pt/eventos/inicio-das-atividades-letivas/
LOCATION:Cascais
CATEGORIES:Alunos,Atividades
END:VEVENT
BEGIN:VEVENT
DTSTART;TZID=UTC:20230912T093000
DTEND;TZID=UTC:20230912T103000
DTSTAMP:20260423T195824
CREATED:20230917T111810Z
LAST-MODIFIED:20230917T111810Z
UID:6307-1694511000-1694514600@aecascais.pt
SUMMARY:Reunião com Encarregados de Educação dos Jardins de Infância e do 1.º ciclo.
DESCRIPTION:
URL:https://aecascais.pt/eventos/reuniao-com-encarregados-de-educacao-dos-jardins-de-infancia-e-do-1-o-ciclo/
LOCATION:Cascais
CATEGORIES:Reuniões
END:VEVENT
BEGIN:VEVENT
DTSTART;TZID=UTC:20230911T093000
DTEND;TZID=UTC:20230911T170000
DTSTAMP:20260423T195824
CREATED:20230917T111728Z
LAST-MODIFIED:20230917T111728Z
UID:6305-1694424600-1694451600@aecascais.pt
SUMMARY:Receção aos docentes pela Câmara Municipal de Cascais
DESCRIPTION:
URL:https://aecascais.pt/eventos/rececao-aos-docentes-pela-camara-municipal-de-cascais/
LOCATION:Cascais
CATEGORIES:Atividades
END:VEVENT
BEGIN:VEVENT
DTSTART;TZID=UTC:20230907T143000
DTEND;TZID=UTC:20230907T180000
DTSTAMP:20260423T195824
CREATED:20230917T111649Z
LAST-MODIFIED:20230917T111649Z
UID:6303-1694097000-1694109600@aecascais.pt
SUMMARY:Reunião de diretores de turma
DESCRIPTION:
URL:https://aecascais.pt/eventos/reuniao-de-diretores-de-turma-2/
LOCATION:Cascais
CATEGORIES:Reuniões
END:VEVENT
END:VCALENDAR